BEGIN:VCALENDAR
VERSION:2.0
PRODID:-//LUMO ACADEMIA - ECPv6.15.20//NONSGML v1.0//EN
CALSCALE:GREGORIAN
METHOD:PUBLISH
X-WR-CALNAME:LUMO ACADEMIA
X-ORIGINAL-URL:https://lumoacademia.com
X-WR-CALDESC:Eventos para LUMO ACADEMIA
REFRESH-INTERVAL;VALUE=DURATION:PT1H
X-Robots-Tag:noindex
X-PUBLISHED-TTL:PT1H
BEGIN:VTIMEZONE
TZID:Europe/Madrid
BEGIN:DAYLIGHT
TZOFFSETFROM:+0100
TZOFFSETTO:+0200
TZNAME:CEST
DTSTART:20240331T010000
END:DAYLIGHT
BEGIN:STANDARD
TZOFFSETFROM:+0200
TZOFFSETTO:+0100
TZNAME:CET
DTSTART:20241027T010000
END:STANDARD
BEGIN:DAYLIGHT
TZOFFSETFROM:+0100
TZOFFSETTO:+0200
TZNAME:CEST
DTSTART:20250330T010000
END:DAYLIGHT
BEGIN:STANDARD
TZOFFSETFROM:+0200
TZOFFSETTO:+0100
TZNAME:CET
DTSTART:20251026T010000
END:STANDARD
BEGIN:DAYLIGHT
TZOFFSETFROM:+0100
TZOFFSETTO:+0200
TZNAME:CEST
DTSTART:20260329T010000
END:DAYLIGHT
BEGIN:STANDARD
TZOFFSETFROM:+0200
TZOFFSETTO:+0100
TZNAME:CET
DTSTART:20261025T010000
END:STANDARD
END:VTIMEZONE
BEGIN:VEVENT
DTSTART;TZID=Europe/Madrid:20251130T113000
DTEND;TZID=Europe/Madrid:20251130T133000
DTSTAMP:20260420T220039
CREATED:20251114T164706Z
LAST-MODIFIED:20251114T170624Z
UID:3594-1764502200-1764509400@lumoacademia.com
SUMMARY:Taller “Crea tu suéter navideño a partir de uno que tengas”
DESCRIPTION:🎄✂️ Taller “Crea tu suéter navideño a partir de uno que tengas” \n¿Para qué comprar un cutre-suéter navideño cuando puedes reciclar uno tuyo y convertirlo en el más molón?\nTe enseñamos y ayudamos a crear una pieza exclusiva reciclando el jersey que tú quieras de la mano de Upcyclick\,  la mejor customizadora de ropa de Valencia. \nPuedes venir en familia o solo.  \nEl primer plan de estas Navidades. 🤩\n📅 Domingo 30 de noviembre de 11:30 a 13:30 horas\n👉 Precio 25€ \n📱 Reserva ya tu plaza enviando un mensaje al teléfono 684 7293 61 con tu nombre + Suéter. Te contestaremos a la mayor brevedad y te diremos como formalizar la reserva. \n🤗 ¡Puedes llamarnos para resolver cualquier duda!\n📍En Lumo Academia\, C/Dr Zamenhof\, 2 Valencia
URL:https://lumoacademia.com/taller/taller-crea-tu-sueter-navideno-a-partir-de-uno-que-tengas/
LOCATION:Lumo Academia\, Doctor Zamenhof\, 2 bajo\, VALENCIA\, Valencia\, 46008\, Spain
CATEGORIES:Adultos,Niños
ATTACH;FMTTYPE=image/jpeg:https://lumoacademia.com/wp-content/uploads/2025/11/taller_sueter.jpg
END:VEVENT
END:VCALENDAR