BEGIN:VCALENDAR
VERSION:2.0
PRODID:-//LUMO ACADEMIA - ECPv6.15.20//NONSGML v1.0//EN
CALSCALE:GREGORIAN
METHOD:PUBLISH
X-ORIGINAL-URL:https://lumoacademia.com
X-WR-CALDESC:Eventos para LUMO ACADEMIA
REFRESH-INTERVAL;VALUE=DURATION:PT1H
X-Robots-Tag:noindex
X-PUBLISHED-TTL:PT1H
BEGIN:VTIMEZONE
TZID:Europe/Madrid
BEGIN:DAYLIGHT
TZOFFSETFROM:+0100
TZOFFSETTO:+0200
TZNAME:CEST
DTSTART:20240331T010000
END:DAYLIGHT
BEGIN:STANDARD
TZOFFSETFROM:+0200
TZOFFSETTO:+0100
TZNAME:CET
DTSTART:20241027T010000
END:STANDARD
BEGIN:DAYLIGHT
TZOFFSETFROM:+0100
TZOFFSETTO:+0200
TZNAME:CEST
DTSTART:20250330T010000
END:DAYLIGHT
BEGIN:STANDARD
TZOFFSETFROM:+0200
TZOFFSETTO:+0100
TZNAME:CET
DTSTART:20251026T010000
END:STANDARD
BEGIN:DAYLIGHT
TZOFFSETFROM:+0100
TZOFFSETTO:+0200
TZNAME:CEST
DTSTART:20260329T010000
END:DAYLIGHT
BEGIN:STANDARD
TZOFFSETFROM:+0200
TZOFFSETTO:+0100
TZNAME:CET
DTSTART:20261025T010000
END:STANDARD
END:VTIMEZONE
BEGIN:VEVENT
DTSTART;TZID=Europe/Madrid:20250625T173000
DTEND;TZID=Europe/Madrid:20250625T193000
DTSTAMP:20260421T052603
CREATED:20250609T173022Z
LAST-MODIFIED:20250609T173022Z
UID:2768-1750872600-1750879800@lumoacademia.com
SUMMARY:Taller Tazas con personalidad
DESCRIPTION:🤝 Lumo y Bantoartestudio unen sus talentos para un taller divertido e inspirador. \n☕ ¡No más tazas y tazones de desayuno aburridas o repetidas! Haz la tuya propia con el diseño de cara que tu quieras\, tu animal favorito\, tu tía Amparo…¡libertad creativa! \nTrabajaremos la técnica del pellizco. Una de las formas más antiguas y básicas de modelar el barro con las manos. Se trata de realizar\, a partir de una bola de arcilla\, un hoyo que iremos pellizcando y girando con las manos para darle\, por lo general\, una forma tipo cuenco y taza. \nLuego la pintaremos y en un par de semanas la tendremos cocida\, lista para usar. \n👨‍👩‍👧‍👦 ¡Para todos los públicos\, ideal para familias! \n🗓El miércoles 25 de junio de 17:30 a 19:30 horas tienes una cita en Lumo.\n👉 Precio 18€ \n📲 Reserva ya tu plaza enviando un mensaje al teléfono 684 7293 61 con tu nombre + Tazas. Te contestaremos a la mayor brevedad y te diremos cómo formalizar la reserva.\n🤗 ¡Puedes llamarnos para resolver cualquier duda!\n¡Plazas limitadas! ¡No te despistes!
URL:https://lumoacademia.com/taller/taller-tazas-con-personalidad/
LOCATION:Lumo Academia\, Doctor Zamenhof\, 2 bajo\, VALENCIA\, Valencia\, 46008\, Spain
CATEGORIES:Adultos,Niños
ATTACH;FMTTYPE=image/jpeg:https://lumoacademia.com/wp-content/uploads/2025/06/web.jpg
END:VEVENT
END:VCALENDAR